BEGIN:VCALENDAR
VERSION:2.0
PRODID:-//Capital Prime - ECPv6.15.20//NONSGML v1.0//EN
CALSCALE:GREGORIAN
METHOD:PUBLISH
X-WR-CALNAME:Capital Prime
X-ORIGINAL-URL:https://capitalprimelansing.com
X-WR-CALDESC:Events for Capital Prime
REFRESH-INTERVAL;VALUE=DURATION:PT1H
X-Robots-Tag:noindex
X-PUBLISHED-TTL:PT1H
BEGIN:VTIMEZONE
TZID:America/Detroit
BEGIN:DAYLIGHT
TZOFFSETFROM:-0500
TZOFFSETTO:-0400
TZNAME:EDT
DTSTART:20240310T070000
END:DAYLIGHT
BEGIN:STANDARD
TZOFFSETFROM:-0400
TZOFFSETTO:-0500
TZNAME:EST
DTSTART:20241103T060000
END:STANDARD
BEGIN:DAYLIGHT
TZOFFSETFROM:-0500
TZOFFSETTO:-0400
TZNAME:EDT
DTSTART:20250309T070000
END:DAYLIGHT
BEGIN:STANDARD
TZOFFSETFROM:-0400
TZOFFSETTO:-0500
TZNAME:EST
DTSTART:20251102T060000
END:STANDARD
BEGIN:DAYLIGHT
TZOFFSETFROM:-0500
TZOFFSETTO:-0400
TZNAME:EDT
DTSTART:20260308T070000
END:DAYLIGHT
BEGIN:STANDARD
TZOFFSETFROM:-0400
TZOFFSETTO:-0500
TZNAME:EST
DTSTART:20261101T060000
END:STANDARD
END:VTIMEZONE
BEGIN:VEVENT
DTSTART;TZID=America/Detroit:20250615T140000
DTEND;TZID=America/Detroit:20250615T200000
DTSTAMP:20260422T072842
CREATED:20250531T133829Z
LAST-MODIFIED:20250604T020825Z
UID:1839-1749996000-1750017600@capitalprimelansing.com
SUMMARY:Father's Day at Capital Prime
DESCRIPTION:Join us for Father’s Day! We will have our full menu available\, plus specials of BBQ Ribs and Prime Rib! Call now to make your reservation at 517-37-PRIME.
URL:https://capitalprimelansing.com/event/fathers-day-at-capital-prime/
LOCATION:Capital Prime Lansing\, 2324 Showtime Dr\, Lansing\, MI\, 48912\, United States
ATTACH;FMTTYPE=image/png:https://capitalprimelansing.com/wp-content/uploads/Screenshot-2025-05-31-at-9.35.58 AM.png
END:VEVENT
END:VCALENDAR