BEGIN:VCALENDAR
VERSION:2.0
PRODID:-//Capital Prime - ECPv6.15.20//NONSGML v1.0//EN
CALSCALE:GREGORIAN
METHOD:PUBLISH
X-WR-CALNAME:Capital Prime
X-ORIGINAL-URL:https://capitalprimelansing.com
X-WR-CALDESC:Events for Capital Prime
REFRESH-INTERVAL;VALUE=DURATION:PT1H
X-Robots-Tag:noindex
X-PUBLISHED-TTL:PT1H
BEGIN:VTIMEZONE
TZID:America/Detroit
BEGIN:DAYLIGHT
TZOFFSETFROM:-0500
TZOFFSETTO:-0400
TZNAME:EDT
DTSTART:20240310T070000
END:DAYLIGHT
BEGIN:STANDARD
TZOFFSETFROM:-0400
TZOFFSETTO:-0500
TZNAME:EST
DTSTART:20241103T060000
END:STANDARD
BEGIN:DAYLIGHT
TZOFFSETFROM:-0500
TZOFFSETTO:-0400
TZNAME:EDT
DTSTART:20250309T070000
END:DAYLIGHT
BEGIN:STANDARD
TZOFFSETFROM:-0400
TZOFFSETTO:-0500
TZNAME:EST
DTSTART:20251102T060000
END:STANDARD
BEGIN:DAYLIGHT
TZOFFSETFROM:-0500
TZOFFSETTO:-0400
TZNAME:EDT
DTSTART:20260308T070000
END:DAYLIGHT
BEGIN:STANDARD
TZOFFSETFROM:-0400
TZOFFSETTO:-0500
TZNAME:EST
DTSTART:20261101T060000
END:STANDARD
END:VTIMEZONE
BEGIN:VEVENT
DTSTART;TZID=America/Detroit:20250511T100000
DTEND;TZID=America/Detroit:20250511T200000
DTSTAMP:20260420T075820
CREATED:20250430T145033Z
LAST-MODIFIED:20250506T203045Z
UID:1789-1746957600-1746993600@capitalprimelansing.com
SUMMARY:Mother's Day at Capital Prime
DESCRIPTION:Celebrate the mothers in your life by spoiling them with our buffet!\nWe are open on Mother’s Day from 10am – 8pm. Make your reservations now by calling us at 517-37-PRIME.\nAdults $65/ 6-12 years $28/ 5 & Under Free\n\nSee More Details Here\n\n\nBUFFET MENU: Served all day\nCaesar Salad\nShaved Brussels Sprout and Strawberry Salad with Pistachios\, Arugula\, Oranges and Feta\nOrzo Pasta Salad with Tomatoes\, Cucumbers\, Shaved Parmesan\, Radishes and Fennel Tossed With Oil and Vinegar\nPeel and Eat Shrimp With Cocktail Sauce\nMarinara Meatballs\nCrispy Brussel Sprouts\nChef’s Vegetable Medley\nCreamy Whipped Sweet\nPotatoes\nHavarti Mac and Cheese\nPrime Rib Carving Station with Creamy Horseradish Sauce\, Horseradish and Au Jus\nBaked Ham Carving\nStation\nBaked Chicken Breast with Choice of BBQ or Sweet & Sour Sauce\nMuffins\, Croissants and Pastries\nFruit Bowl\nAssorted Desserts\nBRUNCH ITEMS: Served until 1pm\nScrambled Eggs\nShakshuka Eggs\nBaked French Toast with Syrup\nCheesy Hashbrown\nCasserole\nHome Fries with Peppers and Onions\nBacon\nTurkey Sausage Patties\nADDITIONAL BUFFET ITEMS: Served after 1pm\nSuccotash\nGlazed Carrots\nChive Whipped Mashed Potatoes\nRoasted Herb Red\nPotatoes\nCreamy Mushroom\nRisotto\nWild Rice Pilaf\nBaked Cod with a Cajun Remoulade
URL:https://capitalprimelansing.com/event/mothers-day-buffet/
ATTACH;FMTTYPE=image/png:https://capitalprimelansing.com/wp-content/uploads/Screenshot-2025-04-30-at-10.48.26 AM-e1746562424859.png
END:VEVENT
BEGIN:VEVENT
DTSTART;TZID=America/Detroit:20250514T180000
DTEND;TZID=America/Detroit:20250514T200000
DTSTAMP:20260420T075820
CREATED:20250430T144240Z
LAST-MODIFIED:20250430T144240Z
UID:1787-1747245600-1747252800@capitalprimelansing.com
SUMMARY:South African Wine Dinner
DESCRIPTION:Join us for our upcoming South African Wine Dinner! \n$85 per person for a three course meal. Doors open at 6 PM\, dinner is served at 6:30. \nDinner features choice of filet mignon\, Scottish salmon\, pan-fried salmon\, and vegetarian option with South African-themed appetizers and dessert\, plus South African wines. Professional wine knowledge provided by AHD Vintners.
URL:https://capitalprimelansing.com/event/south-african-wine-dinner/
ATTACH;FMTTYPE=application/pdf:https://capitalprimelansing.com/wp-content/uploads/Wine-Dinner-Banner.pdf
END:VEVENT
END:VCALENDAR