BEGIN:VCALENDAR
VERSION:2.0
PRODID:-//Capital Prime - ECPv6.15.20//NONSGML v1.0//EN
CALSCALE:GREGORIAN
METHOD:PUBLISH
X-WR-CALNAME:Capital Prime
X-ORIGINAL-URL:https://capitalprimelansing.com
X-WR-CALDESC:Events for Capital Prime
REFRESH-INTERVAL;VALUE=DURATION:PT1H
X-Robots-Tag:noindex
X-PUBLISHED-TTL:PT1H
BEGIN:VTIMEZONE
TZID:America/Detroit
BEGIN:DAYLIGHT
TZOFFSETFROM:-0500
TZOFFSETTO:-0400
TZNAME:EDT
DTSTART:20180311T070000
END:DAYLIGHT
BEGIN:STANDARD
TZOFFSETFROM:-0400
TZOFFSETTO:-0500
TZNAME:EST
DTSTART:20181104T060000
END:STANDARD
BEGIN:DAYLIGHT
TZOFFSETFROM:-0500
TZOFFSETTO:-0400
TZNAME:EDT
DTSTART:20190310T070000
END:DAYLIGHT
BEGIN:STANDARD
TZOFFSETFROM:-0400
TZOFFSETTO:-0500
TZNAME:EST
DTSTART:20191103T060000
END:STANDARD
BEGIN:DAYLIGHT
TZOFFSETFROM:-0500
TZOFFSETTO:-0400
TZNAME:EDT
DTSTART:20200308T070000
END:DAYLIGHT
BEGIN:STANDARD
TZOFFSETFROM:-0400
TZOFFSETTO:-0500
TZNAME:EST
DTSTART:20201101T060000
END:STANDARD
BEGIN:DAYLIGHT
TZOFFSETFROM:-0500
TZOFFSETTO:-0400
TZNAME:EDT
DTSTART:20210314T070000
END:DAYLIGHT
BEGIN:STANDARD
TZOFFSETFROM:-0400
TZOFFSETTO:-0500
TZNAME:EST
DTSTART:20211107T060000
END:STANDARD
BEGIN:DAYLIGHT
TZOFFSETFROM:-0500
TZOFFSETTO:-0400
TZNAME:EDT
DTSTART:20220313T070000
END:DAYLIGHT
BEGIN:STANDARD
TZOFFSETFROM:-0400
TZOFFSETTO:-0500
TZNAME:EST
DTSTART:20221106T060000
END:STANDARD
END:VTIMEZONE
BEGIN:VEVENT
DTSTART;TZID=America/Detroit:20210523T190000
DTEND;TZID=America/Detroit:20210523T210000
DTSTAMP:20260419T104813
CREATED:20210504T221053Z
LAST-MODIFIED:20210504T221053Z
UID:1011-1621796400-1621803600@capitalprimelansing.com
SUMMARY:LIVE at VINE at Prime
DESCRIPTION:LIVE at VINE at Prime\nComedy Central Comedian Ron Taylor \n\nEvent begins at 7:00pm\n$20/person (Pay at the door $ or Venmo)\nLimited Seating Available\nReserve your spot now—call 517-37PRIME
URL:https://capitalprimelansing.com/event/live-at-vine-at-prime/
ATTACH;FMTTYPE=image/jpeg:https://capitalprimelansing.com/wp-content/uploads/event-052321-pic.jpg
END:VEVENT
BEGIN:VEVENT
DTSTART;TZID=America/Detroit:20210520T160000
DTEND;TZID=America/Detroit:20210520T220000
DTSTAMP:20260419T104813
CREATED:20210504T220646Z
LAST-MODIFIED:20210504T220646Z
UID:1009-1621526400-1621548000@capitalprimelansing.com
SUMMARY:Sparrow Hospital Guild
DESCRIPTION:Dining With a Silver Lining\nJoin us from 4PM to closing on May 20th to support Sparrow Hospital Guild’s initiative to enhance patient care in our community! Just mention Sparrow Hospital Guild to your server and we will donate 10% of you total order to this worthy cause. Includes takeout orders.
URL:https://capitalprimelansing.com/event/sparrow-hospital-guild/
ATTACH;FMTTYPE=image/jpeg:https://capitalprimelansing.com/wp-content/uploads/event-052021-pic.jpg
END:VEVENT
BEGIN:VEVENT
DTSTART;TZID=America/Detroit:20210509T100000
DTEND;TZID=America/Detroit:20210509T150000
DTSTAMP:20260419T104813
CREATED:20210504T220408Z
LAST-MODIFIED:20210505T205934Z
UID:1005-1620554400-1620572400@capitalprimelansing.com
SUMMARY:Mother's Day Brunch
DESCRIPTION:Mother’s Day\nWe have put together an exquisite Mother’s Day Brunch menu\, so celebrate her special day with the superb food and service you will only find at Capital Prime. \n\nReserve your spot now—call 517-37PRIME
URL:https://capitalprimelansing.com/event/mothers-day-brunch/
ATTACH;FMTTYPE=image/jpeg:https://capitalprimelansing.com/wp-content/uploads/event-050921-pic.jpg
END:VEVENT
BEGIN:VEVENT
DTSTART;TZID=America/Detroit:20200319T183000
DTEND;TZID=America/Detroit:20200319T183000
DTSTAMP:20260419T104813
CREATED:20200304T021108Z
LAST-MODIFIED:20200304T021108Z
UID:721-1584642600-1584642600@capitalprimelansing.com
SUMMARY:Copper Cane Wine Dinner
DESCRIPTION:Owned and operated by Joseph Wagner in Napa Valley\, Copper Cane Wines & Provisions houses a collection of brands that are crafted to offer a touch of luxury for everyday indulgence. This will be a five course meal with selected wine pairings. \n\nEvent begins at 6:30pm\n$65/person (plus tax and gratuity)\nReserve your spot now—call 517-37PRIME
URL:https://capitalprimelansing.com/event/copper-cane-wine-dinner/
ATTACH;FMTTYPE=image/jpeg:https://capitalprimelansing.com/wp-content/uploads/event-031920-pic.jpg
END:VEVENT
BEGIN:VEVENT
DTSTART;TZID=America/Detroit:20200314T200000
DTEND;TZID=America/Detroit:20200314T220000
DTSTAMP:20260419T104813
CREATED:20200304T020853Z
LAST-MODIFIED:20200304T020853Z
UID:719-1584216000-1584223200@capitalprimelansing.com
SUMMARY:Comedy Night at VINE at Prime
DESCRIPTION:Aaron Putnam\nAaron is a Chicago-based comic and the founder of Stand Up in Recovery where comics put on shows at recovery centers across the country. He has opened for Doug Stanhope\, Erik Griffin\, Robert Kelly\, and many more. \nZach Martina\nZach brings his big energy to crowds across America delivering dark jokes in a delightful manner while pointing the finger of blame at everyone except himself. In addition to his debut album “Skunkman” regularly spinning on Sirius/XM\, you may have heard him on The Bonfire with Big Jay Oakerson & Dan Soder or the hit podcast Dumb People Town with the Sklar Brothers & Daniel Van Kirk. \nHosted by Detroit area comedian Alana Gonzalez \n\n8:00–10:00pm\n$15/person (plus tax)\nCash bar\, limited appetizer menu available\nPlease call 517-37PRIME to reserve seats for this one night show!
URL:https://capitalprimelansing.com/event/comedy-night-at-vine-at-prime/
ATTACH;FMTTYPE=image/jpeg:https://capitalprimelansing.com/wp-content/uploads/event-031420-pic.jpg
END:VEVENT
BEGIN:VEVENT
DTSTART;TZID=America/Detroit:20200312T183000
DTEND;TZID=America/Detroit:20200312T183000
DTSTAMP:20260419T104813
CREATED:20200105T175653Z
LAST-MODIFIED:20200304T020513Z
UID:683-1584037800-1584037800@capitalprimelansing.com
SUMMARY:Spartan Cork Masters: Dessert Tasting
DESCRIPTION:An Italy versus France dessert and wine tasting to determine which of the two country style desserts you enjoy the most. Two courses of Italian desserts and two courses of French desserts made by Chef Jennifer\, paired with the perfect wines. \n\nEvent begins at 6:30pm\n$45/person (plus tax and gratuity)\nReserve your spot now—call 517-37PRIME
URL:https://capitalprimelansing.com/event/spartan-cork-masters-dessert-tasting/
ATTACH;FMTTYPE=image/jpeg:https://capitalprimelansing.com/wp-content/uploads/event-031220-pic.jpg
END:VEVENT
BEGIN:VEVENT
DTSTART;VALUE=DATE:20200213
DTEND;VALUE=DATE:20200216
DTSTAMP:20260419T104813
CREATED:20200105T180755Z
LAST-MODIFIED:20200122T040500Z
UID:687-1581552000-1581811199@capitalprimelansing.com
SUMMARY:Dine With Your Valentine
DESCRIPTION:Make this Valentine’s Day one you’ll remember with a five course dinner for two!\nValentine package includes appetizer\, salad\, entrée\, dessert and champagne toast.\nAsk our sommelier to suggest wine pairings with your meal. \n\nThursday\, February 13 through Saturday\, February 15\n$100/couple (plus tax and gratuity)\nReservations are limited—call 517-37PRIME\n\nValentine’s Day Menu
URL:https://capitalprimelansing.com/event/dine-with-your-valentine-2/
ATTACH;FMTTYPE=image/jpeg:https://capitalprimelansing.com/wp-content/uploads/event-021420-pic.jpg
END:VEVENT
BEGIN:VEVENT
DTSTART;VALUE=DATE:20200202
DTEND;VALUE=DATE:20200203
DTSTAMP:20260419T104813
CREATED:20200123T214912Z
LAST-MODIFIED:20200123T214912Z
UID:700-1580601600-1580687999@capitalprimelansing.com
SUMMARY:Open for the Big Game
DESCRIPTION:Open Sunday 2/2/20 for the Big Game\nHappy Hour Drink Specials\nHappy Hour Appetizer Specials \n3 Huge Screens\nBrunch From 10am-3pm at VINE at Prime\nSunday Prime Rib Special \nWhy not enjoy the best food\, drinks\, wine and beer while you enjoy the game?
URL:https://capitalprimelansing.com/event/open-for-the-big-game/
ATTACH;FMTTYPE=image/jpeg:https://capitalprimelansing.com/wp-content/uploads/event-020220-pic.jpg
END:VEVENT
BEGIN:VEVENT
DTSTART;TZID=America/Detroit:20191231T200000
DTEND;TZID=America/Detroit:20191231T200000
DTSTAMP:20260419T104813
CREATED:20191130T232634Z
LAST-MODIFIED:20191130T233831Z
UID:670-1577822400-1577822400@capitalprimelansing.com
SUMMARY:New Years Eve Celebration
DESCRIPTION:Join Us to Ring In the New Year!\n\n8pm through the New Year\nLive Motown Band\n2 Drink Tickets/person\nA Glorious Appetizer Buffet\nLocation: VINE at Prime\n$55/person (plus tax and gratuity)\n\nReserve Your Spot Now!\nReservations are limited… call 517-37PRIME \nMake your New Year Celebration the most fun night of the year!
URL:https://capitalprimelansing.com/event/new-years-eve-celebration/
ATTACH;FMTTYPE=image/jpeg:https://capitalprimelansing.com/wp-content/uploads/event-123119-pic.jpg
END:VEVENT
BEGIN:VEVENT
DTSTART;TZID=America/Detroit:20191202T113000
DTEND;TZID=America/Detroit:20191230T150000
DTSTAMP:20260419T104813
CREATED:20191130T234357Z
LAST-MODIFIED:20191130T234429Z
UID:677-1575286200-1577718000@capitalprimelansing.com
SUMMARY:Holiday Lunch
DESCRIPTION:Holiday Lunch\nCapital Prime will be open for lunch for the holiday season from 11:30am-3pm
URL:https://capitalprimelansing.com/event/holiday-lunch/
ATTACH;FMTTYPE=image/jpeg:https://capitalprimelansing.com/wp-content/uploads/event-120219-pic.jpg
END:VEVENT
BEGIN:VEVENT
DTSTART;VALUE=DATE:20191111
DTEND;VALUE=DATE:20191112
DTSTAMP:20260419T104813
CREATED:20191028T201204Z
LAST-MODIFIED:20191028T201927Z
UID:653-1573430400-1573516799@capitalprimelansing.com
SUMMARY:Veterans Day
DESCRIPTION:Veterans Day\nTo commemorate Veterans Day\, we are offering 1/2 Off your entire meal to veterans of the U.S. Military. Thank you for your service! \nPlease bring in your Military or Veterans Photo ID to receive 1/2 Off your meal on Sunday\, November 10\, 2018 from 2 to 9PM\, or Monday\, November 11\, 2018\, 4 to 10PM. \nValid with proof of service by showing your Military ID. Limit one 1/2 price meal per veteran.
URL:https://capitalprimelansing.com/event/veterans-day/
ATTACH;FMTTYPE=image/jpeg:https://capitalprimelansing.com/wp-content/uploads/event-111119-pic.jpg
END:VEVENT
BEGIN:VEVENT
DTSTART;TZID=America/Detroit:20191024T183000
DTEND;TZID=America/Detroit:20191024T183000
DTSTAMP:20260419T104813
CREATED:20190929T212809Z
LAST-MODIFIED:20190929T212809Z
UID:607-1571941800-1571941800@capitalprimelansing.com
SUMMARY:Spartan Cork Masters: Halloween
DESCRIPTION:Enjoy 3 small spooky plated courses paired with creepy crawling cocktails hand crafted in house. Guest with best costume gets in at no cost. \n\nEvent begins at 6:30pm\n$45/person (plus tax and gratuity)\nReserve your spot now—call 517-37PRIME
URL:https://capitalprimelansing.com/event/spartan-cork-masters-halloween/
ATTACH;FMTTYPE=image/jpeg:https://capitalprimelansing.com/wp-content/uploads/event-102419-pic.jpg
END:VEVENT
BEGIN:VEVENT
DTSTART;TZID=America/Detroit:20191017T183000
DTEND;TZID=America/Detroit:20191017T183000
DTSTAMP:20260419T104813
CREATED:20190929T212759Z
LAST-MODIFIED:20190929T212759Z
UID:605-1571337000-1571337000@capitalprimelansing.com
SUMMARY:Francis Coppola Wine Dinner
DESCRIPTION:The Coppola Commitment:\nAt Francis Ford Coppola Winery\, all of our planted acres are sustainably farmed and certified through the California Sustainable Winegrowing Program. Our vineyards use leading water conservation practices including aerial imagery\, weather stations\, soil monitoring probes\, smart scheduling and drip irrigation. Every drop of water in the winery is used twice\, being captured\, cleaned and recycled for vineyard irrigation.  \nWe welcome Francis Ford Coppola winery to Capital Prime for a 5 course Italian-style dinner showcasing all of the premium director’s cut wines the California vineyard has to offer. \n\nEvent begins at 6:30pm\n$65/person (plus tax and gratuity)\nReserve your spot now—call 517-37PRIME
URL:https://capitalprimelansing.com/event/francis-coppola-wine-dinner/
ATTACH;FMTTYPE=image/jpeg:https://capitalprimelansing.com/wp-content/uploads/event-101719-pic.jpg
END:VEVENT
BEGIN:VEVENT
DTSTART;TZID=America/Detroit:20190926T183000
DTEND;TZID=America/Detroit:20190926T183000
DTSTAMP:20260419T104813
CREATED:20190829T132736Z
LAST-MODIFIED:20190829T133220Z
UID:592-1569522600-1569522600@capitalprimelansing.com
SUMMARY:Justin Winery Dinner
DESCRIPTION:Justin Winery is a well known vineyard from the highest point in Paso Robles\, California with the philosophy of combining traditional Old World methods\, like hand-harvesting and small-barrel aging in French Oak\, with New World technology. Join us for a five-course dinner paired with each one of these fabulous wines. \n\nEvent begins at 6:30pm\n$65/person (plus tax and gratuity)\nReserve your spot now—call 517-37PRIME\n\nDo not miss your chance to sample some of the finest wines from California. This event will fill quickly and we will be limiting the number of attendees to create an intimate setting to learn more about Justin Winery from their experts\, and the exceptional wines they produce.
URL:https://capitalprimelansing.com/event/justin-winery-dinner/
ATTACH;FMTTYPE=image/jpeg:https://capitalprimelansing.com/wp-content/uploads/event-092619-pic.jpg
END:VEVENT
BEGIN:VEVENT
DTSTART;TZID=America/Detroit:20190912T183000
DTEND;TZID=America/Detroit:20190912T183000
DTSTAMP:20260419T104813
CREATED:20190829T203654Z
LAST-MODIFIED:20190829T203654Z
UID:594-1568313000-1568313000@capitalprimelansing.com
SUMMARY:Spartan Cork Masters: Zinfandel vs. Merlot
DESCRIPTION:A look between the two middle class red wines to compare the difference between both grapes to finally put to rest which is a better wine. Six wines\, three of each paired with light charcuterie. \n\nEvent begins at 6:30pm\n$35/person (plus tax and gratuity)\nReserve your spot now—call 517-37PRIME
URL:https://capitalprimelansing.com/event/spartan-cork-masters-zinfandel-vs-merlot/
ATTACH;FMTTYPE=image/jpeg:https://capitalprimelansing.com/wp-content/uploads/event-091419-pic.jpg
END:VEVENT
BEGIN:VEVENT
DTSTART;TZID=America/Detroit:20190829T183000
DTEND;TZID=America/Detroit:20190829T183000
DTSTAMP:20260419T104813
CREATED:20190719T151921Z
LAST-MODIFIED:20190731T173919Z
UID:576-1567103400-1567103400@capitalprimelansing.com
SUMMARY:Spartan Cork Masters: Walkaround Wine Tasting and Wine Sale
DESCRIPTION:Sample 5 carefully curated wines with light appetizers. Additional wines will be available for purchase. \n\nEvent begins at 6:30pm\n$35/person (plus tax)\nReserve your spot now—call 517-37PRIME
URL:https://capitalprimelansing.com/event/spartan-cork-masters-walkaround-wine-tasting/
ATTACH;FMTTYPE=image/jpeg:https://capitalprimelansing.com/wp-content/uploads/event-082919-pic.jpg
END:VEVENT
BEGIN:VEVENT
DTSTART;TZID=America/Detroit:20190817T110000
DTEND;TZID=America/Detroit:20190817T110000
DTSTAMP:20260419T104813
CREATED:20190719T151036Z
LAST-MODIFIED:20190729T180505Z
UID:574-1566039600-1566039600@capitalprimelansing.com
SUMMARY:Breakfast Wines and Mimosas
DESCRIPTION:Five courses of your favorite brunch paired with Woodberry Wine’s fabulous wines and mimosas. \n\nEvent begins at 11:00am\n$35/person (plus tax and gratuity)\nReserve your spot now—call 517-37PRIME
URL:https://capitalprimelansing.com/event/breakfast-wines-and-mimosas/
ATTACH;FMTTYPE=image/jpeg:https://capitalprimelansing.com/wp-content/uploads/event-081719-pic.jpg
END:VEVENT
BEGIN:VEVENT
DTSTART;TZID=America/Detroit:20190725T183000
DTEND;TZID=America/Detroit:20190725T183000
DTSTAMP:20260419T104813
CREATED:20190624T161302Z
LAST-MODIFIED:20190624T161302Z
UID:545-1564079400-1564079400@capitalprimelansing.com
SUMMARY:Spartan Cork Masters: Cabernets
DESCRIPTION:This magnificent tasting will include six different Cabernets paired with three wonderful small plates. If you love your Cabs\, don’t miss this one! \n\nEvent begins at 6:30pm\n$40/person (plus tax and gratuity)\nReserve your spot now—call 517-37PRIME
URL:https://capitalprimelansing.com/event/spartan-cork-masters-cabernets/
ATTACH;FMTTYPE=image/jpeg:https://capitalprimelansing.com/wp-content/uploads/event-072519-pic.jpg
END:VEVENT
BEGIN:VEVENT
DTSTART;TZID=America/Detroit:20190718T183000
DTEND;TZID=America/Detroit:20190718T183000
DTSTAMP:20260419T104813
CREATED:20190624T161512Z
LAST-MODIFIED:20190624T161512Z
UID:551-1563474600-1563474600@capitalprimelansing.com
SUMMARY:Founders Brewery Dinner
DESCRIPTION:Featuring Founders’ most unique and original beers\, paired with 5 courses of delicious\, complementary cuisine. \n\nEvent begins at 6:30pm\n$55/person (plus tax and gratuity)\nReserve your spot now—call 517-37PRIME
URL:https://capitalprimelansing.com/event/founders-brewery-dinner/
ATTACH;FMTTYPE=image/jpeg:https://capitalprimelansing.com/wp-content/uploads/event-071819-pic.jpg
END:VEVENT
BEGIN:VEVENT
DTSTART;TZID=America/Detroit:20190627T183000
DTEND;TZID=America/Detroit:20190627T183000
DTSTAMP:20260419T104813
CREATED:20190605T181859Z
LAST-MODIFIED:20190605T181859Z
UID:533-1561660200-1561660200@capitalprimelansing.com
SUMMARY:Spartan Cork Masters: Sangrias on the Patio
DESCRIPTION:Come and relax on the patio\, sip on some specialty Sangrias and enjoy a fresh fruit and cheese platter as a way to bring in the summer season! \n\nEvent begins at 6:30pm\n$35/person (plus tax and gratuity)\nReserve your spot now—call 517-37PRIME
URL:https://capitalprimelansing.com/event/spartan-cork-masters-sangrias-on-the-patio/
ATTACH;FMTTYPE=image/jpeg:https://capitalprimelansing.com/wp-content/uploads/event-062719-pic.jpg
END:VEVENT
BEGIN:VEVENT
DTSTART;TZID=America/Detroit:20190613T183000
DTEND;TZID=America/Detroit:20190613T183000
DTSTAMP:20260419T104813
CREATED:20190522T201150Z
LAST-MODIFIED:20190522T201234Z
UID:506-1560450600-1560450600@capitalprimelansing.com
SUMMARY:Champagne Duménil Dinner
DESCRIPTION:Champagne Duménil Dinner\nJoin us to sample the Premier Cru Champagnes of Duménil.\nChampagne Dumenil is an independent French Champagne House which continues to utilize the expertise that has been handed down through the family for 5 generations. \nFreshness\, delicacy and fruity flavours denote Duménil Champagnes (only Premier Cru).\nThe mouthful comes from the precise blending of reserve wines\, which have been kept during exceptional years and preserved in our cellars. Our understanding of the yield ensures optimal maturity at the point of harvest\, guaranteed quality and an aromatic concentration. \nChef Ryan has prepared a spectacular 5-Course Dinner to pair with these exclusive French Champagnes. \n\nEvent begins at 6:30pm\n$100/person (plus tax and gratuity)\nLimited space available—call Capital Prime at 517-37PRIME for reservations.
URL:https://capitalprimelansing.com/event/champagne-dumenil-dinner/
ATTACH;FMTTYPE=image/jpeg:https://capitalprimelansing.com/wp-content/uploads/event-061319-pic.jpg
END:VEVENT
BEGIN:VEVENT
DTSTART;TZID=America/Detroit:20190523T183000
DTEND;TZID=America/Detroit:20190523T183000
DTSTAMP:20260419T104813
CREATED:20190501T160453Z
LAST-MODIFIED:20190501T160453Z
UID:461-1558636200-1558636200@capitalprimelansing.com
SUMMARY:Spartan Cork Masters: Roses and Rosé Wines
DESCRIPTION:Try five different styles of rosé wines from dry\, sweet and bubbly paired with chocolate truffles and select cheeses. Perfect for a late Mother’s Day gift! \n\nEvent begins at 6:30pm\n$35/person (plus tax and gratuity)\nReserve your spot now—call 517-37PRIME
URL:https://capitalprimelansing.com/event/spartan-cork-masters-roses-and-rose-wines/
ATTACH;FMTTYPE=image/jpeg:https://capitalprimelansing.com/wp-content/uploads/event-052319-pic.jpg
END:VEVENT
BEGIN:VEVENT
DTSTART;TZID=America/Detroit:20190512T100000
DTEND;TZID=America/Detroit:20190512T210000
DTSTAMP:20260419T104813
CREATED:20190418T175632Z
LAST-MODIFIED:20190418T181547Z
UID:450-1557655200-1557694800@capitalprimelansing.com
SUMMARY:Mother's Day Brunch Buffet and Dinner
DESCRIPTION:Celebrate Mother’s Day\nBrunch Buffet 10am–2pm\nMother’s Day Brunch Buffet including traditional breakfast fare\, prime rib carving and omelette stations\, along with selected chicken\, fish and pasta entrées.\n4 and under: FREE | Ages 5-12: $18 | 13-Adult: $40 \nDinner 3–9pm\nEnjoy our Executive Chef’s Mother’s Day features or order from our full dinner menu. Allow our resident Sommelier to suggest the perfect wine pairings for your dinner. \nTreat your special mother to elegant dining and leave the clean up to us! \n\nCall Capital Prime at 517-37PRIME for a reservation.
URL:https://capitalprimelansing.com/event/mothers-day-brunch-buffet-and-dinner/
ATTACH;FMTTYPE=image/jpeg:https://capitalprimelansing.com/wp-content/uploads/event-051219-pic.jpg
END:VEVENT
BEGIN:VEVENT
DTSTART;TZID=America/Detroit:20190411T183000
DTEND;TZID=America/Detroit:20190411T183000
DTSTAMP:20260419T104813
CREATED:20190327T150640Z
LAST-MODIFIED:20190327T150640Z
UID:386-1555007400-1555007400@capitalprimelansing.com
SUMMARY:Spartan Cork Masters: Exploring New World White Wines
DESCRIPTION:Sample classic white wines in the “New World” style. From crisp whites to balanced oak from various parts of the new world. These delicious wines will be paired with a charcuterie and cheese board. \n\nEvent begins at 6:30pm\n$35/person (plus tax and gratuity)\nReserve your spot now—call 517-37PRIME
URL:https://capitalprimelansing.com/event/spartan-cork-masters-exploring-new-world-white-wines/
ATTACH;FMTTYPE=image/jpeg:https://capitalprimelansing.com/wp-content/uploads/event-041119-pic.jpg
END:VEVENT
BEGIN:VEVENT
DTSTART;TZID=America/Detroit:20190321T183000
DTEND;TZID=America/Detroit:20190321T183000
DTSTAMP:20260419T104813
CREATED:20190304T190354Z
LAST-MODIFIED:20190304T190354Z
UID:366-1553193000-1553193000@capitalprimelansing.com
SUMMARY:Feast for St. Patty
DESCRIPTION:Join us for a celebration of St. Patrick with a 5 course traditional Irish style feast paired with fun Irish cocktails. \n\nEvent begins at 6:30pm\n$65/person (plus tax and gratuity)\nReserve your spot now—call 517-37PRIME
URL:https://capitalprimelansing.com/event/feast-for-st-patty/
ATTACH;FMTTYPE=image/jpeg:https://capitalprimelansing.com/wp-content/uploads/event-032119-pic.jpg
END:VEVENT
BEGIN:VEVENT
DTSTART;TZID=America/Detroit:20190307T183000
DTEND;TZID=America/Detroit:20190307T183000
DTSTAMP:20260419T104813
CREATED:20190304T190130Z
LAST-MODIFIED:20190304T190130Z
UID:363-1551983400-1551983400@capitalprimelansing.com
SUMMARY:Spartan Cork Masters: Syrah vs. Shiraz
DESCRIPTION:Compare the same grape\, done in different ways with tastings of six different styles. Paired with a charcuterie platter. \n\nEvent begins at 6:30pm\n$40/person (plus tax and gratuity)\nReserve your spot now—call 517-37PRIME
URL:https://capitalprimelansing.com/event/spartan-cork-masters-syrah-vs-shiraz/
ATTACH;FMTTYPE=image/jpeg:https://capitalprimelansing.com/wp-content/uploads/event-030719-pic.jpg
END:VEVENT
BEGIN:VEVENT
DTSTART;TZID=America/Detroit:20190228T183000
DTEND;TZID=America/Detroit:20190228T183000
DTSTAMP:20260419T104813
CREATED:20190201T220346Z
LAST-MODIFIED:20190304T190241Z
UID:337-1551378600-1551378600@capitalprimelansing.com
SUMMARY:The Flavors of Burgundy Dinner
DESCRIPTION:Burgundy\, France is a land of limestone and fossils\, making these wines distinctive. Join us for a 5-course pairing of wines and food from the Burgundy region. \n\nEvent begins at 6:30pm\n$60/person (plus tax and gratuity)\nReserve your spot now—call 517-37PRIME
URL:https://capitalprimelansing.com/event/the-flavors-of-burgundy-dinner/
ATTACH;FMTTYPE=image/jpeg:https://capitalprimelansing.com/wp-content/uploads/event-022819-pic.jpg
END:VEVENT
BEGIN:VEVENT
DTSTART;TZID=America/Detroit:20190215T183000
DTEND;TZID=America/Detroit:20190215T183000
DTSTAMP:20260419T104813
CREATED:20190201T220142Z
LAST-MODIFIED:20190205T164334Z
UID:335-1550255400-1550255400@capitalprimelansing.com
SUMMARY:Spartan Cork Masters: Chocolate and Wine Tasting
DESCRIPTION:Let’s have some FUN! Join us to explore the perfect pairing of wine and various chocolates. 5 wines and 5 different chocolate pairings. \n\nEvent begins at 6:30pm\n$40/person (plus tax and gratuity)\nReserve your spot now—call 517-37PRIME
URL:https://capitalprimelansing.com/event/spartan-cork-masters-chocolate-and-wine-tasting/
ATTACH;FMTTYPE=image/jpeg:https://capitalprimelansing.com/wp-content/uploads/event-021519-pic.jpg
END:VEVENT
BEGIN:VEVENT
DTSTART;VALUE=DATE:20190214
DTEND;VALUE=DATE:20190217
DTSTAMP:20260419T104813
CREATED:20190125T193200Z
LAST-MODIFIED:20190130T225201Z
UID:243-1550102400-1550361599@capitalprimelansing.com
SUMMARY:Dine with your Valentine
DESCRIPTION:Make this Valentine’s Day one you’ll remember with a five course dinner for two!\nValentine package includes appetizer\, salad\, entrée\, dessert and champagne toast.\nAsk our sommelier to suggest wine pairings with your meal. \n\nThursday\, February 14 through Saturday\, February 16\nReservations are limited—call 517-37PRIME
URL:https://capitalprimelansing.com/event/dine-with-your-valentine/
ATTACH;FMTTYPE=image/jpeg:https://capitalprimelansing.com/wp-content/uploads/event-021419-pic.jpg
END:VEVENT
BEGIN:VEVENT
DTSTART;TZID=America/Detroit:20190131T183000
DTEND;TZID=America/Detroit:20190131T183000
DTSTAMP:20260419T104813
CREATED:20190110T211626Z
LAST-MODIFIED:20190110T213715Z
UID:163-1548959400-1548959400@capitalprimelansing.com
SUMMARY:Prohibition Dinner
DESCRIPTION:Prohibition-style cocktails paired with 5 courses of food from the 20s. \n\nEvent begins at 6:30pm\n$65/person (plus tax and gratuity)\nReserve your spot now—call 517-37PRIME
URL:https://capitalprimelansing.com/event/prohibition-dinner/
ATTACH;FMTTYPE=image/jpeg:https://capitalprimelansing.com/wp-content/uploads/event-013119-pic.jpg
END:VEVENT
END:VCALENDAR